BEGIN:VCALENDAR
VERSION:2.0
PRODID:-//Squarespace Inc/Squarespace 6//v6//EN
BEGIN:VEVENT
UID:5f88f75e5af00f1b3c6ec3f6@squarespace.com
DTSTAMP:20201019T065645Z
DTSTART:20220422T020000Z
DTEND:20220501T030000Z
SUMMARY:Spirit of the Twenties
END:VEVENT
END:VCALENDAR
