BEGIN:VCALENDAR
VERSION:2.0
PRODID:-//Squarespace Inc/Squarespace 6//v6//EN
BEGIN:VEVENT
UID:600555a9e40b7c3f2c06f866@squarespace.com
DTSTAMP:20210118T093447Z
DTSTART:20210611T230000Z
DTEND:20210614T060000Z
SUMMARY:Queens B'Day Bash
END:VEVENT
END:VCALENDAR
