BEGIN:VCALENDAR
VERSION:2.0
PRODID:-//Squarespace Inc/Squarespace 6//v6//EN
BEGIN:VEVENT
UID:600554ac2b3308744098378d@squarespace.com
DTSTAMP:20210118T093112Z
DTSTART:20210206T073000Z
DTEND:20210206T110000Z
SUMMARY:Night Trial
END:VEVENT
END:VCALENDAR
