BEGIN:VCALENDAR
VERSION:2.0
PRODID:-//Squarespace Inc/Squarespace 6//v6//EN
BEGIN:VEVENT
UID:6003e5c2c580bf115d9ec499@squarespace.com
DTSTAMP:20210117T072756Z
DTSTART:20210416T230000Z
DTEND:20210418T040000Z
SUMMARY:Mini Touring Weekend &amp\; Observation Run
END:VEVENT
END:VCALENDAR
