BEGIN:VCALENDAR
VERSION:2.0
PRODID:-//Squarespace Inc/Squarespace 6//v6//EN
BEGIN:VEVENT
UID:60055398e996e15729f1e6b4@squarespace.com
DTSTAMP:20210118T092611Z
DTSTART:20210220T050000Z
DTEND:20210220T080000Z
SUMMARY:Evening BBQ &amp\; Warriner Judging 
END:VEVENT
END:VCALENDAR
