BEGIN:VCALENDAR
VERSION:2.0
PRODID:-//Squarespace Inc/Squarespace 6//v6//EN
BEGIN:VEVENT
UID:5fb1b6f79488406ed90974ca@squarespace.com
DTSTAMP:20201115T231927Z
DTSTART:20210429T230000Z
DTEND:20210502T003000Z
SUMMARY:B40 Rally
END:VEVENT
END:VCALENDAR
